BEGIN:VCALENDAR
VERSION:2.0
PRODID:-//hacksw/handcal//NONSGML v1.0//EN
BEGIN:VEVENT
UID:8e1fa8f476ff81b6aa530b860195f682
DTSTAMP:20260420T035732Z

DTSTART:20230203T120000
DTEND:20230205T170000
SUMMARY:Houston Spring Home and Garden Show 2023
DESCRIPTION:Houston Spring Home and Garden Show will be held Feb 3rd – 5th, 2023 in Houston, TX. This Houston home show is held at NRG Park and hosted by .\n\nThe Houston Home and Garden Show will have home improvement, deals and sales, inspirational ideas, experts and so much more at their annual home event!

X-ALT-DESC;FMTTYPE=text/html:<!DOCTYPE HTML PUBLIC "-//W3C//DTD HTML 3.2//EN">\n<HTML>\n<HEAD>\n<META NAME="Generator" CONTENT="MS Exchange Server version 08.00.0681.000">\n<TITLE></TITLE>\n</HEAD>\n<BODY>\n<!-- Converted from text/rtf format -->\n\nHouston Spring Home and Garden Show will be held Feb 3rd – 5th, 2023 in Houston, TX. This Houston home show is held at NRG Park and hosted by .<br /><br />The Houston Home and Garden Show will have home improvement, deals and sales, inspirational ideas, experts and so much more at their annual home event!\n\n</BODY>\n</HTML>

LOCATION:Houston, Harris County, Texas, United States
END:VEVENT

END:VCALENDAR
