BEGIN:VCALENDAR
VERSION:2.0
PRODID:-//hacksw/handcal//NONSGML v1.0//EN
BEGIN:VEVENT
UID:9a3f2ad58f06dc381a6beef11b3b8dfd
DTSTAMP:20260420T060215Z

DTSTART:20230324T120000
DTEND:20230326T170000
SUMMARY:Austin Spring Home and Garden Show 2023
DESCRIPTION:Austin Spring Home and Garden Show will be held Mar 24th – 26th, 2023 in Austin, TX. This Austin home show is held at Palmer Events Center and hosted by .\n\nThe Austin Spring Home and Garden Show will have home improvement, deals and sales, inspirational ideas, experts and so much more at their annual home event!

X-ALT-DESC;FMTTYPE=text/html:<!DOCTYPE HTML PUBLIC "-//W3C//DTD HTML 3.2//EN">\n<HTML>\n<HEAD>\n<META NAME="Generator" CONTENT="MS Exchange Server version 08.00.0681.000">\n<TITLE></TITLE>\n</HEAD>\n<BODY>\n<!-- Converted from text/rtf format -->\n\nAustin Spring Home and Garden Show will be held Mar 24th – 26th, 2023 in Austin, TX. This Austin home show is held at Palmer Events Center and hosted by .<br /><br />The Austin Spring Home and Garden Show will have home improvement, deals and sales, inspirational ideas, experts and so much more at their annual home event!\n\n</BODY>\n</HTML>

LOCATION:Palmer Events Center, 900, Barton Springs Road, Auditorium Shores, Austin, Travis County, Texas, 78704, United States
END:VEVENT

END:VCALENDAR
