BEGIN:VCALENDAR
VERSION:2.0
PRODID:-//hacksw/handcal//NONSGML v1.0//EN
BEGIN:VEVENT
UID:6ed879c4b911d8ccc98913d794951e1c
DTSTAMP:20260420T123156Z

DTSTART:20230325T000000
DTEND:20230325T000000
SUMMARY:South Texas Home and Garden Show 2023
DESCRIPTION:South Texas Home and Garden Show will be held Mar 25th, 2023 in Floresville, TX. This Floresville home show is held at Floresville Event Center and hosted by .\n\nThe South Texas Home and Garden Show is celebrating the benefits of gardening while showcasing local farmers and artisans.

X-ALT-DESC;FMTTYPE=text/html:<!DOCTYPE HTML PUBLIC "-//W3C//DTD HTML 3.2//EN">\n<HTML>\n<HEAD>\n<META NAME="Generator" CONTENT="MS Exchange Server version 08.00.0681.000">\n<TITLE></TITLE>\n</HEAD>\n<BODY>\n<!-- Converted from text/rtf format -->\n\nSouth Texas Home and Garden Show will be held Mar 25th, 2023 in Floresville, TX. This Floresville home show is held at Floresville Event Center and hosted by .<br /><br />The South Texas Home and Garden Show is celebrating the benefits of gardening while showcasing local farmers and artisans.\n\n</BODY>\n</HTML>

LOCATION:Floresville, Wilson County, Texas, United States
END:VEVENT

END:VCALENDAR
