BEGIN:VCALENDAR
VERSION:2.0
PRODID:-//hacksw/handcal//NONSGML v1.0//EN
BEGIN:VEVENT
UID:cd23276280a8b2b55eef04062fb0bf30
DTSTAMP:20260420T130443Z

DTSTART:20221108T090000
DTEND:20221108T120000
SUMMARY:They Lurk Among You ~ Protecting Your Clients from Other Brokers' Mistakes
DESCRIPTION:The competency of the broker who represents the other side of the deal is not something you can control. Nor can you read the minds of the buyer or seller on the other side of the deal. Improve your ability to sense problems coming over the horizon and minimize mistakes from brokers on the other side of the deal before it hurts your clients. Learn how to address the inevitable problems that will slip through your radar.\n\nCost - $40\nCredits - 3\n\nInstructor Name - Jon Goodman\nCompany Name - FRASCONA JOINER GOODMAN & GREENSTEIN PC

X-ALT-DESC;FMTTYPE=text/html:<!DOCTYPE HTML PUBLIC "-//W3C//DTD HTML 3.2//EN">\n<HTML>\n<HEAD>\n<META NAME="Generator" CONTENT="MS Exchange Server version 08.00.0681.000">\n<TITLE></TITLE>\n</HEAD>\n<BODY>\n<!-- Converted from text/rtf format -->\n\nThe competency of the broker who represents the other side of the deal is not something you can control. Nor can you read the minds of the buyer or seller on the other side of the deal. Improve your ability to sense problems coming over the horizon and minimize mistakes from brokers on the other side of the deal before it hurts your clients. Learn how to address the inevitable problems that will slip through your radar.<br /><br />Cost - $40<br />Credits - 3<br /><br />Instructor Name - Jon Goodman<br />Company Name - FRASCONA JOINER GOODMAN & GREENSTEIN PC\n\n</BODY>\n</HTML>

LOCATION:
END:VEVENT

END:VCALENDAR
