BEGIN:VCALENDAR
VERSION:2.0
PRODID:-//hacksw/handcal//NONSGML v1.0//EN
BEGIN:VEVENT
UID:ff7a4347f33facfb03f9b2616545e698
DTSTAMP:20260419T231949Z

DTSTART:20230922T120000
DTEND:20230924T180000
SUMMARY:Houston Fall Home and Garden Show 2023
DESCRIPTION:Houston Fall Home and Garden Show will be held Sep 22nd – 24th, 2023 in Houston, TX. This Houston home show is held at NRG Park and hosted by .\n\nThe Houston Fall Home and Garden Show will have home improvement, deals and sales, inspirational ideas, experts and so much more at their annual home event!

X-ALT-DESC;FMTTYPE=text/html:<!DOCTYPE HTML PUBLIC "-//W3C//DTD HTML 3.2//EN">\n<HTML>\n<HEAD>\n<META NAME="Generator" CONTENT="MS Exchange Server version 08.00.0681.000">\n<TITLE></TITLE>\n</HEAD>\n<BODY>\n<!-- Converted from text/rtf format -->\n\nHouston Fall Home and Garden Show will be held Sep 22nd – 24th, 2023 in Houston, TX. This Houston home show is held at NRG Park and hosted by .<br /><br />The Houston Fall Home and Garden Show will have home improvement, deals and sales, inspirational ideas, experts and so much more at their annual home event!\n\n</BODY>\n</HTML>

LOCATION:Houston, Harris County, Texas, United States
END:VEVENT

END:VCALENDAR
