BEGIN:VCALENDAR
VERSION:2.0
PRODID:-//hacksw/handcal//NONSGML v1.0//EN
BEGIN:VEVENT
UID:dcf4a59db403610a758bd13f970d8927
DTSTAMP:20260420T041457Z

DTSTART:20230113T120000
DTEND:20230115T180000
SUMMARY:Winnipeg Renovation Show 2023
DESCRIPTION:Winnipeg Renovation Show will be held Jan 13th – 15th, 2023 in Winnipeg, MB. This Winnipeg home show is held at RBC Convention Centre and hosted by .\n\nThe Winnipeg Renovation Show will have home improvement, deals and sales, inspirational ideas, experts and so much more at their annual home event!

X-ALT-DESC;FMTTYPE=text/html:<!DOCTYPE HTML PUBLIC "-//W3C//DTD HTML 3.2//EN">\n<HTML>\n<HEAD>\n<META NAME="Generator" CONTENT="MS Exchange Server version 08.00.0681.000">\n<TITLE></TITLE>\n</HEAD>\n<BODY>\n<!-- Converted from text/rtf format -->\n\nWinnipeg Renovation Show will be held Jan 13th – 15th, 2023 in Winnipeg, MB. This Winnipeg home show is held at RBC Convention Centre and hosted by .<br /><br />The Winnipeg Renovation Show will have home improvement, deals and sales, inspirational ideas, experts and so much more at their annual home event!\n\n</BODY>\n</HTML>

LOCATION:RBC Convention Centre Winnipeg, 375, York Avenue, South Portage, Fort Rouge–East Fort Garry, Winnipeg, Division No. 11, Manitoba, R3C 3J3, Canada
END:VEVENT

END:VCALENDAR
