BEGIN:VCALENDAR
VERSION:2.0
PRODID:-//hacksw/handcal//NONSGML v1.0//EN
BEGIN:VEVENT
UID:77d9ea3ea30cfda6c3bd36b4f5bb0826
DTSTAMP:20260420T052002Z

DTSTART:20230119T120000
DTEND:20230122T170000
SUMMARY:Ottawa Home and Remodeling Show 2023
DESCRIPTION:Ottawa Home and Remodeling Show will be held Jan 19th – 22nd, 2023 in Ottawa, ON. This Ottawa home show is held at EY Centre and hosted by .\n\nThe Ottawa Home and Remodeling Show will have home improvement, deals and sales, inspirational ideas, experts and so much more at their annual home event!

X-ALT-DESC;FMTTYPE=text/html:<!DOCTYPE HTML PUBLIC "-//W3C//DTD HTML 3.2//EN">\n<HTML>\n<HEAD>\n<META NAME="Generator" CONTENT="MS Exchange Server version 08.00.0681.000">\n<TITLE></TITLE>\n</HEAD>\n<BODY>\n<!-- Converted from text/rtf format -->\n\nOttawa Home and Remodeling Show will be held Jan 19th – 22nd, 2023 in Ottawa, ON. This Ottawa home show is held at EY Centre and hosted by .<br /><br />The Ottawa Home and Remodeling Show will have home improvement, deals and sales, inspirational ideas, experts and so much more at their annual home event!\n\n</BODY>\n</HTML>

LOCATION:Uplands Drive, Gloucester-Southgate, Gloucester, Ottawa, Eastern Ontario, Ontario, K1V 1S2, Canada
END:VEVENT

END:VCALENDAR
