BEGIN:VCALENDAR
VERSION:2.0
PRODID:-//hacksw/handcal//NONSGML v1.0//EN
BEGIN:VEVENT
UID:3e469947fe47a8bcd3e3d864613655f3
DTSTAMP:20260420T073052Z

DTSTART:20230309T120000
DTEND:20230312T170000
SUMMARY:The National Home Show – Montreal 2023
DESCRIPTION:The National Home Show – Montreal will be held Mar 9th – 12th, 2023 in Montreal, QC. This Montreal home show is held at Palais des Congrés and hosted by .\n\nMeet experts in both home and garden decor and ideas! Shop local with trusted businesses! There's an expert for all of your projects at The National Home Show in Montreal.

X-ALT-DESC;FMTTYPE=text/html:<!DOCTYPE HTML PUBLIC "-//W3C//DTD HTML 3.2//EN">\n<HTML>\n<HEAD>\n<META NAME="Generator" CONTENT="MS Exchange Server version 08.00.0681.000">\n<TITLE></TITLE>\n</HEAD>\n<BODY>\n<!-- Converted from text/rtf format -->\n\nThe National Home Show – Montreal will be held Mar 9th – 12th, 2023 in Montreal, QC. This Montreal home show is held at Palais des Congrés and hosted by .<br /><br />Meet experts in both home and garden decor and ideas! Shop local with trusted businesses! There's an expert for all of your projects at The National Home Show in Montreal.\n\n</BODY>\n</HTML>

LOCATION:Montréal (06), Québec, Canada
END:VEVENT

END:VCALENDAR
