BEGIN:VCALENDAR
VERSION:2.0
PRODID:-//hacksw/handcal//NONSGML v1.0//EN
BEGIN:VEVENT
UID:211377c20e5eb0c5c4b9e4cd60a0c71e
DTSTAMP:20260420T091653Z

DTSTART:20230316T120000
DTEND:20230319T180000
SUMMARY:British Columbia Home and Garden Show 2023
DESCRIPTION:British Columbia Home and Garden Show will be held Mar 16th – 19th, 2023 in Vancouver, BC. This Vancouver home show is held at BC Place Stadium and hosted by .\n\nThe BC Home and Garden Show will have everything you need to finish the home improvement projects of your dreams!

X-ALT-DESC;FMTTYPE=text/html:<!DOCTYPE HTML PUBLIC "-//W3C//DTD HTML 3.2//EN">\n<HTML>\n<HEAD>\n<META NAME="Generator" CONTENT="MS Exchange Server version 08.00.0681.000">\n<TITLE></TITLE>\n</HEAD>\n<BODY>\n<!-- Converted from text/rtf format -->\n\nBritish Columbia Home and Garden Show will be held Mar 16th – 19th, 2023 in Vancouver, BC. This Vancouver home show is held at BC Place Stadium and hosted by .<br /><br />The BC Home and Garden Show will have everything you need to finish the home improvement projects of your dreams!\n\n</BODY>\n</HTML>

LOCATION:BC Place, 777, Pacific Boulevard, Yaletown, Downtown, Vancouver, Metro Vancouver Regional District, British Columbia, V6B, Canada
END:VEVENT

END:VCALENDAR
