BEGIN:VCALENDAR
VERSION:2.0
PRODID:-//hacksw/handcal//NONSGML v1.0//EN
BEGIN:VEVENT
UID:0853ff18176e8ead9a6dbdb8e39e0a07
DTSTAMP:20260420T134727Z

DTSTART:20230331T160000
DTEND:20230402T160000
SUMMARY:Pictou County Home Show 2023
DESCRIPTION:Pictou County Home Show will be held Mar 31st – Apr 2nd, 2023 in New Glasgow, NS. This New Glasgow home show is held at Pictou County Wellness Centre and hosted by Master Promotions Ltd..\n\nAre you looking to start or finish your home improvement plans this Summer? The Pictou County Home Show is the place to be! This event has been trusted by homeowners for nearly four decades! Anything youneed to make your house a home will be available. Come get inspiration to build, buy and renovate your space!

X-ALT-DESC;FMTTYPE=text/html:<!DOCTYPE HTML PUBLIC "-//W3C//DTD HTML 3.2//EN">\n<HTML>\n<HEAD>\n<META NAME="Generator" CONTENT="MS Exchange Server version 08.00.0681.000">\n<TITLE></TITLE>\n</HEAD>\n<BODY>\n<!-- Converted from text/rtf format -->\n\nPictou County Home Show will be held Mar 31st – Apr 2nd, 2023 in New Glasgow, NS. This New Glasgow home show is held at Pictou County Wellness Centre and hosted by Master Promotions Ltd..<br /><br />Are you looking to start or finish your home improvement plans this Summer? The Pictou County Home Show is the place to be! This event has been trusted by homeowners for nearly four decades! Anything youneed to make your house a home will be available. Come get inspiration to build, buy and renovate your space!\n\n</BODY>\n</HTML>

LOCATION:New Glasgow, Town of New Glasgow, Pictou County, Nova Scotia, Canada
END:VEVENT

END:VCALENDAR
