BEGIN:VCALENDAR
VERSION:2.0
PRODID:-//hacksw/handcal//NONSGML v1.0//EN
BEGIN:VEVENT
UID:aebbb1f2b2ebb5c9013a1a9d1a1515ff
DTSTAMP:20260420T052132Z

DTSTART:20230502T080000
DTEND:20230503T180000
SUMMARY:The 10th Annual Real Estate CFO & COO Forum 2023
DESCRIPTION:Mark your calendar as IMN's 10thAnnual Real Estate CFO & COO Forum (West) will take place in Dana Point, CA, May 2-3, 2023.\n\nEvery year, the forum provides unrivaled opportunities for attendees to participate in educational sessions focused on the latest trends in accounting, regulations and technology, and also in hours of built-in networking opportunities for forging those critical business connections.\n\nThe 2023 conference will again gather a delegation of CFOs, COOs, Tax & Accounting Officers, Controllers, Treasurers and more for a day and a half program packed with insights from within real estate developers, lenders, REITs, and operating companies.\n\nAn excellent opportunity to earn CPE Credits when you attend select sessions.\n\nWe look forward to welcoming you to Dana Point this Spring!

X-ALT-DESC;FMTTYPE=text/html:<!DOCTYPE HTML PUBLIC "-//W3C//DTD HTML 3.2//EN">\n<HTML>\n<HEAD>\n<META NAME="Generator" CONTENT="MS Exchange Server version 08.00.0681.000">\n<TITLE></TITLE>\n</HEAD>\n<BODY>\n<!-- Converted from text/rtf format -->\n\nMark your calendar as IMN's 10thAnnual Real Estate CFO & COO Forum (West) will take place in Dana Point, CA, May 2-3, 2023.<br /><br />Every year, the forum provides unrivaled opportunities for attendees to participate in educational sessions focused on the latest trends in accounting, regulations and technology, and also in hours of built-in networking opportunities for forging those critical business connections.<br /><br />The 2023 conference will again gather a delegation of CFOs, COOs, Tax & Accounting Officers, Controllers, Treasurers and more for a day and a half program packed with insights from within real estate developers, lenders, REITs, and operating companies.<br /><br />An excellent opportunity to earn CPE Credits when you attend select sessions.<br /><br />We look forward to welcoming you to Dana Point this Spring!\n\n</BODY>\n</HTML>

LOCATION:Dana Point, Orange County, CAL Fire Southern Region, California, United States
END:VEVENT

END:VCALENDAR
