BEGIN:VCALENDAR
VERSION:2.0
PRODID:-//hacksw/handcal//NONSGML v1.0//EN
BEGIN:VEVENT
UID:7355daeea200cf4e63566f390c817752
DTSTAMP:20260419T182621Z

DTSTART:20230112T214500
DTEND:20230112T224500
SUMMARY:The Housing Opportunity You’ve Been Waiting For (In Person Class)
DESCRIPTION:Join us in person for a one hour webinar presentation by Barry Habib of Edge Home Finance. He will talk about the opportunity you’ve been waiting for in the housing market. Learn how to: uncover the best buying opportunity in housing, when rates will come down and how much, understanding seller concessions to win more deals, and more!\n\nNo Cost\n0 CE\n\nPresented by Barry Habib of Edge Home Finance \nSponsored by Kelley Hamilton of Edge Home Finance\n

X-ALT-DESC;FMTTYPE=text/html:<!DOCTYPE HTML PUBLIC "-//W3C//DTD HTML 3.2//EN">\n<HTML>\n<HEAD>\n<META NAME="Generator" CONTENT="MS Exchange Server version 08.00.0681.000">\n<TITLE></TITLE>\n</HEAD>\n<BODY>\n<!-- Converted from text/rtf format -->\n\nJoin us in person for a one hour webinar presentation by Barry Habib of Edge Home Finance. He will talk about the opportunity you’ve been waiting for in the housing market. Learn how to: uncover the best buying opportunity in housing, when rates will come down and how much, understanding seller concessions to win more deals, and more!<br /><br />No Cost<br />0 CE<br /><br />Presented by Barry Habib of Edge Home Finance <br />Sponsored by Kelley Hamilton of Edge Home Finance<br />\n\n</BODY>\n</HTML>

LOCATION:4600, South Ulster Street, Denver Tech Center, Denver, Colorado, 80237, United States
END:VEVENT

END:VCALENDAR
