BEGIN:VCALENDAR
VERSION:2.0
PRODID:-//hacksw/handcal//NONSGML v1.0//EN
BEGIN:VEVENT
UID:61bcbe54c58f0bbc5db8d907df7e209b
DTSTAMP:20260420T035720Z

DTSTART:20230517T070000
DTEND:20230518T190000
SUMMARY:TRREB Realtor Quest Trade Show 2023 
DESCRIPTION:Drive your business goals further at TRREB REALTOR® QUEST, Canada’s largest real estate conference and trade show.\n\nWe have a wide variety of exhibitor booths and sponsor opportunities available to satisfy any corporate requirement. Discover the 2023 Sponsor and Exhibitor Package that breaks down the sponsorship levels and exhibitor booths available, including the on-site recognition, features and benefits you can expect.

X-ALT-DESC;FMTTYPE=text/html:<!DOCTYPE HTML PUBLIC "-//W3C//DTD HTML 3.2//EN">\n<HTML>\n<HEAD>\n<META NAME="Generator" CONTENT="MS Exchange Server version 08.00.0681.000">\n<TITLE></TITLE>\n</HEAD>\n<BODY>\n<!-- Converted from text/rtf format -->\n\nDrive your business goals further at TRREB REALTOR® QUEST, Canada’s largest real estate conference and trade show.<br /><br />We have a wide variety of exhibitor booths and sponsor opportunities available to satisfy any corporate requirement. Discover the 2023 Sponsor and Exhibitor Package that breaks down the sponsorship levels and exhibitor booths available, including the on-site recognition, features and benefits you can expect.\n\n</BODY>\n</HTML>

LOCATION:Toronto Congress Centre, Dixon Road, Etobicoke North, Etobicoke, Toronto, Golden Horseshoe, Ontario, M9W 1J3, Canada
END:VEVENT

END:VCALENDAR
