BEGIN:VCALENDAR
VERSION:2.0
PRODID:-//hacksw/handcal//NONSGML v1.0//EN
BEGIN:VEVENT
UID:103c1d947743a9018906f1751529a574
DTSTAMP:20260420T090109Z

DTSTART:20230307T080000
DTEND:20230309T170000
SUMMARY:International Roofing Expo 2023
DESCRIPTION:The International Roofing Expo (IRE) is the largest roofing and exteriors event in North America. Each year residential and commercial professionals come together to meet suppliers, discover new products, network with the global industry and improve how they run their businesses.\n\nMark your calendar to join us for our annual three-day event in Dallas from March 7-9, 2023. With hundreds of exhibitors, 60+ educational sessions, and tons of networking opportunities — the IRE is the place to learn about the latest industry trends.

X-ALT-DESC;FMTTYPE=text/html:<!DOCTYPE HTML PUBLIC "-//W3C//DTD HTML 3.2//EN">\n<HTML>\n<HEAD>\n<META NAME="Generator" CONTENT="MS Exchange Server version 08.00.0681.000">\n<TITLE></TITLE>\n</HEAD>\n<BODY>\n<!-- Converted from text/rtf format -->\n\nThe International Roofing Expo (IRE) is the largest roofing and exteriors event in North America. Each year residential and commercial professionals come together to meet suppliers, discover new products, network with the global industry and improve how they run their businesses.<br /><br />Mark your calendar to join us for our annual three-day event in Dallas from March 7-9, 2023. With hundreds of exhibitors, 60+ educational sessions, and tons of networking opportunities — the IRE is the place to learn about the latest industry trends.\n\n</BODY>\n</HTML>

LOCATION:Kay Bailey Hutchinson Convention Center, 650, South Griffin Street, Downtown PID, Dallas, Dallas County, Texas, 75202, United States
END:VEVENT

END:VCALENDAR
