BEGIN:VCALENDAR
VERSION:2.0
PRODID:-//hacksw/handcal//NONSGML v1.0//EN
BEGIN:VEVENT
UID:141d595661ca78e0fe6a5763103baa98
DTSTAMP:20260420T073800Z

DTSTART:20230208T140000
DTEND:20230208T150000
SUMMARY:Common Contract Disputes and How to Avoid Them
DESCRIPTION:Greg will cover some of the most frequent types of contract disputes and offer guidance on how to avoid them.\n\nWe will examine some of the most frequent types of contract disputes and offer guidance on how to avoid them in the first place. We will also cover property drafting considerations and what happens when there is an earnest money dispute.\n\n1 Free CE Credit.

X-ALT-DESC;FMTTYPE=text/html:<!DOCTYPE HTML PUBLIC "-//W3C//DTD HTML 3.2//EN">\n<HTML>\n<HEAD>\n<META NAME="Generator" CONTENT="MS Exchange Server version 08.00.0681.000">\n<TITLE></TITLE>\n</HEAD>\n<BODY>\n<!-- Converted from text/rtf format -->\n\nGreg will cover some of the most frequent types of contract disputes and offer guidance on how to avoid them.<br /><br />We will examine some of the most frequent types of contract disputes and offer guidance on how to avoid them in the first place. We will also cover property drafting considerations and what happens when there is an earnest money dispute.<br /><br />1 Free CE Credit.\n\n</BODY>\n</HTML>

LOCATION:200 Columbine, 200, Columbine Street, Denver, Colorado, 80206, United States
END:VEVENT

END:VCALENDAR
