BEGIN:VCALENDAR
VERSION:2.0
PRODID:-//hacksw/handcal//NONSGML v1.0//EN
BEGIN:VEVENT
UID:d45f2734ff59e010b83d492723f63854
DTSTAMP:20260420T051929Z

DTSTART:20230710T080000
DTEND:20230713T200000
SUMMARY:NCREIF Summer Conference 2023
DESCRIPTION:The NCREIF (National Council of Real Estate Investment Fiduciaries) Academy offers a collection of courses that are specific to our institutional real estate industry, and designed to offer NCREIF’s members and other professionals with the opportunity to explore the industry’s different disciplines.\nOver the years a strong and diverse curriculum has been developed. It is a great way to earn valuable education credits. You can take courses a la carte or work toward a Certification, achieving the NCREIF Professional Certificate in Institutional Real Estate.

X-ALT-DESC;FMTTYPE=text/html:<!DOCTYPE HTML PUBLIC "-//W3C//DTD HTML 3.2//EN">\n<HTML>\n<HEAD>\n<META NAME="Generator" CONTENT="MS Exchange Server version 08.00.0681.000">\n<TITLE></TITLE>\n</HEAD>\n<BODY>\n<!-- Converted from text/rtf format -->\n\nThe NCREIF (National Council of Real Estate Investment Fiduciaries) Academy offers a collection of courses that are specific to our institutional real estate industry, and designed to offer NCREIF’s members and other professionals with the opportunity to explore the industry’s different disciplines.<br />Over the years a strong and diverse curriculum has been developed. It is a great way to earn valuable education credits. You can take courses a la carte or work toward a Certification, achieving the NCREIF Professional Certificate in Institutional Real Estate.\n\n</BODY>\n</HTML>

LOCATION:Swissotel Chicago, 323, East Wacker Drive, New East Side, Loop, Chicago, Cook County, Illinois, 60601, United States
END:VEVENT

END:VCALENDAR
