BEGIN:VCALENDAR
VERSION:2.0
PRODID:-//hacksw/handcal//NONSGML v1.0//EN
BEGIN:VEVENT
UID:92cc7e60d661a2f55a1282999d00e5d1
DTSTAMP:20260419T200344Z

DTSTART:20230909T100000
DTEND:20230910T170000
SUMMARY:Daytona Fall Home Show 2023
DESCRIPTION:Daytona Home Show will be held Sep 9th-10th, 2023 in Daytona Beach, FL. This Daytona Beach home show is held at Ocean Center and hosted by East Coast Consumer Shows.\n\nThe Daytona Home Show is here to help you find everything for your home improvement projects! View and interact with the industry's hottest home and garden products! Meet with professionals who can help make your next remodeling, renovation, landscaping, patio or decorating project a big success.

X-ALT-DESC;FMTTYPE=text/html:<!DOCTYPE HTML PUBLIC "-//W3C//DTD HTML 3.2//EN">\n<HTML>\n<HEAD>\n<META NAME="Generator" CONTENT="MS Exchange Server version 08.00.0681.000">\n<TITLE></TITLE>\n</HEAD>\n<BODY>\n<!-- Converted from text/rtf format -->\n\nDaytona Home Show will be held Sep 9th-10th, 2023 in Daytona Beach, FL. This Daytona Beach home show is held at Ocean Center and hosted by East Coast Consumer Shows.<br /><br />The Daytona Home Show is here to help you find everything for your home improvement projects! View and interact with the industry's hottest home and garden products! Meet with professionals who can help make your next remodeling, renovation, landscaping, patio or decorating project a big success.\n\n</BODY>\n</HTML>

LOCATION:101, North Atlantic Avenue, Daytona Beach, Volusia County, Florida, 32118, United States
END:VEVENT

END:VCALENDAR
