BEGIN:VCALENDAR
VERSION:2.0
PRODID:-//hacksw/handcal//NONSGML v1.0//EN
BEGIN:VEVENT
UID:436541289969c8270622e56acad2e3a9
DTSTAMP:20260420T090430Z

DTSTART:20231007T100000
DTEND:20231008T170000
SUMMARY:Suburban Maryland Home Show - October 2023
DESCRIPTION:Suburban Maryland Home Show will be held Oct 7th – 8th, 2023 in West Friendship, MD. This West Friendship home show is held at Howard County Fairgrounds and hosted by Maryland Home Show.\n\nCome out to enjoy the Maryland Home Show in West Friendship! There will be featured showcases of interior designs from numerous exhibitors. Explore the kitchen showcase and so much more!

X-ALT-DESC;FMTTYPE=text/html:<!DOCTYPE HTML PUBLIC "-//W3C//DTD HTML 3.2//EN">\n<HTML>\n<HEAD>\n<META NAME="Generator" CONTENT="MS Exchange Server version 08.00.0681.000">\n<TITLE></TITLE>\n</HEAD>\n<BODY>\n<!-- Converted from text/rtf format -->\n\nSuburban Maryland Home Show will be held Oct 7th – 8th, 2023 in West Friendship, MD. This West Friendship home show is held at Howard County Fairgrounds and hosted by Maryland Home Show.<br /><br />Come out to enjoy the Maryland Home Show in West Friendship! There will be featured showcases of interior designs from numerous exhibitors. Explore the kitchen showcase and so much more!\n\n</BODY>\n</HTML>

LOCATION:West Friendship, Howard County, Maryland, 21794, United States
END:VEVENT

END:VCALENDAR
