BEGIN:VCALENDAR
VERSION:2.0
PRODID:-//hacksw/handcal//NONSGML v1.0//EN
BEGIN:VEVENT
UID:19f84419728846065cdbc8b951ea3368
DTSTAMP:20260420T030120Z

DTSTART:20230415T100000
DTEND:20230416T160000
SUMMARY:New Mexico Home Improvement Show 2023
DESCRIPTION:New Mexico Home Improvement Show will be held Apr 15th – 16th, 2023 in Albuquerque, NM. This Albuquerque home show is held at Expo New Mexico and hosted by Interact Productions.\n\nThe New Mexico Home Improvement Show will help you find everything you'll need, from the front door to the backyard. Enjoys the exhibits and vendors who are there to help you create the home of your dreams.

X-ALT-DESC;FMTTYPE=text/html:<!DOCTYPE HTML PUBLIC "-//W3C//DTD HTML 3.2//EN">\n<HTML>\n<HEAD>\n<META NAME="Generator" CONTENT="MS Exchange Server version 08.00.0681.000">\n<TITLE></TITLE>\n</HEAD>\n<BODY>\n<!-- Converted from text/rtf format -->\n\nNew Mexico Home Improvement Show will be held Apr 15th – 16th, 2023 in Albuquerque, NM. This Albuquerque home show is held at Expo New Mexico and hosted by Interact Productions.<br /><br />The New Mexico Home Improvement Show will help you find everything you'll need, from the front door to the backyard. Enjoys the exhibits and vendors who are there to help you create the home of your dreams.\n\n</BODY>\n</HTML>

LOCATION:300, San Pedro Drive Northeast, International District, Albuquerque, Bernalillo County, New Mexico, 87108, United States
END:VEVENT

END:VCALENDAR
