BEGIN:VCALENDAR
VERSION:2.0
PRODID:-//hacksw/handcal//NONSGML v1.0//EN
BEGIN:VEVENT
UID:fecd3299921d3b4bebcfe88395f8b69a
DTSTAMP:20260420T024952Z

DTSTART:20230804T110000
DTEND:20230805T160000
SUMMARY:Layton Home Show 2023
DESCRIPTION:Layton Home Show will be held Aug 4th – 5th, 2023 in Layton, UT. This Layton home show is held at Davis Conference Center and hosted by Nationwide Expos.\n\nSave BIG on all your home improvement projects and meet face to face with local and national vendors!\n\nThe Layton Home Show is back! See the latest in home improvement, remodeling, outdoor living, and more! Meet with local contractors and remodeling experts.

X-ALT-DESC;FMTTYPE=text/html:<!DOCTYPE HTML PUBLIC "-//W3C//DTD HTML 3.2//EN">\n<HTML>\n<HEAD>\n<META NAME="Generator" CONTENT="MS Exchange Server version 08.00.0681.000">\n<TITLE></TITLE>\n</HEAD>\n<BODY>\n<!-- Converted from text/rtf format -->\n\nLayton Home Show will be held Aug 4th – 5th, 2023 in Layton, UT. This Layton home show is held at Davis Conference Center and hosted by Nationwide Expos.<br /><br />Save BIG on all your home improvement projects and meet face to face with local and national vendors!<br /><br />The Layton Home Show is back! See the latest in home improvement, remodeling, outdoor living, and more! Meet with local contractors and remodeling experts.\n\n</BODY>\n</HTML>

LOCATION:North 700 West, Robins Park, Layton, Davis County, Utah, 84041, United States
END:VEVENT

END:VCALENDAR
