BEGIN:VCALENDAR
VERSION:2.0
PRODID:-//hacksw/handcal//NONSGML v1.0//EN
BEGIN:VEVENT
UID:b2d207515b956931754c0e8c2ad055c2
DTSTAMP:20260419T181816Z

DTSTART:20231027T120000
DTEND:20231028T180000
SUMMARY:St. George Home Expo 2023
DESCRIPTION:St. George Home Expo will be held Oct 27th – 28th, 2023 in St George, UT. This St George home show is held at The Dixie Center and hosted by Nationwide Expos.\n\nSave BIG on all your home improvement projects and meet face to face with local and national vendors!\n\nThe St. George Fall Home Expo is back this fall! Explore the latest in home improvement, remodeling, outdoor living, and more! Meet with local contractors and remodeling experts and expect to be inspired.

X-ALT-DESC;FMTTYPE=text/html:<!DOCTYPE HTML PUBLIC "-//W3C//DTD HTML 3.2//EN">\n<HTML>\n<HEAD>\n<META NAME="Generator" CONTENT="MS Exchange Server version 08.00.0681.000">\n<TITLE></TITLE>\n</HEAD>\n<BODY>\n<!-- Converted from text/rtf format -->\n\nSt. George Home Expo will be held Oct 27th – 28th, 2023 in St George, UT. This St George home show is held at The Dixie Center and hosted by Nationwide Expos.<br /><br />Save BIG on all your home improvement projects and meet face to face with local and national vendors!<br /><br />The St. George Fall Home Expo is back this fall! Explore the latest in home improvement, remodeling, outdoor living, and more! Meet with local contractors and remodeling experts and expect to be inspired.\n\n</BODY>\n</HTML>

LOCATION:Rosenbruch Wildlife Museum, 1835, South Convention Center Drive, St. George, Washington County, Utah, 84790, United States
END:VEVENT

END:VCALENDAR
