BEGIN:VCALENDAR
VERSION:2.0
PRODID:-//hacksw/handcal//NONSGML v1.0//EN
BEGIN:VEVENT
UID:6ac61c0d925d5f0c3532d51d452f5362
DTSTAMP:20260420T044230Z

DTSTART:20231027T120000
DTEND:20231029T170000
SUMMARY:Washington State Evergreen Fall Home Show 2023
DESCRIPTION:Washington State Evergreen Fall Home Show will be held Oct 27th – 29th, 2023 in Monroe, WA. This Monroe home show is held at Evergreen State Fairgrounds Event Center and hosted by Westlake Promotion Inc..\n\nThe Evergreen Fall Home Show was previously the Everett Fall Home Show. It takes place in Washington State and will feature hundreds of specialized local businesses and vendors! This event will helping anyone who's ready to customize, update, or even design, the home you have always wanted.

X-ALT-DESC;FMTTYPE=text/html:<!DOCTYPE HTML PUBLIC "-//W3C//DTD HTML 3.2//EN">\n<HTML>\n<HEAD>\n<META NAME="Generator" CONTENT="MS Exchange Server version 08.00.0681.000">\n<TITLE></TITLE>\n</HEAD>\n<BODY>\n<!-- Converted from text/rtf format -->\n\nWashington State Evergreen Fall Home Show will be held Oct 27th – 29th, 2023 in Monroe, WA. This Monroe home show is held at Evergreen State Fairgrounds Event Center and hosted by Westlake Promotion Inc..<br /><br />The Evergreen Fall Home Show was previously the Everett Fall Home Show. It takes place in Washington State and will feature hundreds of specialized local businesses and vendors! This event will helping anyone who's ready to customize, update, or even design, the home you have always wanted.\n\n</BODY>\n</HTML>

LOCATION:14405, 179th Avenue Southeast, Monroe, Snohomish County, Washington, 98272, United States
END:VEVENT

END:VCALENDAR
