BEGIN:VCALENDAR
VERSION:2.0
PRODID:-//hacksw/handcal//NONSGML v1.0//EN
BEGIN:VEVENT
UID:4803133ffa00e1d64300b7f001024bc4
DTSTAMP:20260420T081409Z

DTSTART:20231027T120000
DTEND:20231029T160000
SUMMARY:Laramie County Fall Home Show 2023
DESCRIPTION:Laramie County Fall Home Show will be held Oct 27th – 29th, 2023 in Cheyenne, WY. This Cheyenne home show is held at Laramie County Fairgrounds and hosted by Nationwide Expos.\n\nSave BIG on all your home improvement projects and meet face to face with local and national vendors!\n\nThe Laramie County Fall Home Show is back this fall! Explore the latest in home improvement, remodeling, outdoor living, and more! Meet with local contractors and remodeling experts and expect to be inspired.

X-ALT-DESC;FMTTYPE=text/html:<!DOCTYPE HTML PUBLIC "-//W3C//DTD HTML 3.2//EN">\n<HTML>\n<HEAD>\n<META NAME="Generator" CONTENT="MS Exchange Server version 08.00.0681.000">\n<TITLE></TITLE>\n</HEAD>\n<BODY>\n<!-- Converted from text/rtf format -->\n\nLaramie County Fall Home Show will be held Oct 27th – 29th, 2023 in Cheyenne, WY. This Cheyenne home show is held at Laramie County Fairgrounds and hosted by Nationwide Expos.<br /><br />Save BIG on all your home improvement projects and meet face to face with local and national vendors!<br /><br />The Laramie County Fall Home Show is back this fall! Explore the latest in home improvement, remodeling, outdoor living, and more! Meet with local contractors and remodeling experts and expect to be inspired.\n\n</BODY>\n</HTML>

LOCATION:Event Center at Archer, 3801, Archer Parkway, Cheyenne, Laramie County, Wyoming, 82009, United States
END:VEVENT

END:VCALENDAR
