BEGIN:VCALENDAR
VERSION:2.0
PRODID:-//hacksw/handcal//NONSGML v1.0//EN
BEGIN:VEVENT
UID:235774ad0c4f137fbca55159042d515d
DTSTAMP:20260420T073920Z

DTSTART:20230720T163000
DTEND:20230723T120000
SUMMARY:STAR POWER® ANNUAL CONFERENCE
DESCRIPTION:The Star Power Annual Conference brings together Stars from all over North America to share best practices in large- and small-group sessions on topics from listing and buyer strategies to team building and business planning – all focused on improving your real estate business. Please join us in beautiful Denver, Colorado, where the summer is the best time of year, and you just might enjoy networking around the pool, at lunch, or after hours in the lounge almost as much as the sessions themselves!

X-ALT-DESC;FMTTYPE=text/html:<!DOCTYPE HTML PUBLIC "-//W3C//DTD HTML 3.2//EN">\n<HTML>\n<HEAD>\n<META NAME="Generator" CONTENT="MS Exchange Server version 08.00.0681.000">\n<TITLE></TITLE>\n</HEAD>\n<BODY>\n<!-- Converted from text/rtf format -->\n\nThe Star Power Annual Conference brings together Stars from all over North America to share best practices in large- and small-group sessions on topics from listing and buyer strategies to team building and business planning – all focused on improving your real estate business. Please join us in beautiful Denver, Colorado, where the summer is the best time of year, and you just might enjoy networking around the pool, at lunch, or after hours in the lounge almost as much as the sessions themselves!\n\n</BODY>\n</HTML>

LOCATION:Renaissance Denver Central Park Hotel, 3801, Quebec Street, Sandown, Denver, Colorado, 80207, United States
END:VEVENT

END:VCALENDAR
