BEGIN:VCALENDAR
VERSION:2.0
PRODID:-//hacksw/handcal//NONSGML v1.0//EN
BEGIN:VEVENT
UID:42f78144995499e4a306ed77b2781505
DTSTAMP:20260419T171734Z

DTSTART:20240917T100000
DTEND:20240919T170000
SUMMARY:2024 Virginia REALTORS® Annual Convention 
DESCRIPTION:It’s Time for a Refresh\nInvest in yourself and your career by attending Refresh: 2024 Virginia REALTORS® Annual Convention! The premier event on the Virginia REALTORS® calendar, our Annual Convention is a must-attend opportunity. Grow your network, expand your knowledge, and enjoy time celebrating your unstoppable industry.\n\nDuring this action-packed event, you'll have the opportunities to hear from top-notch speakers, learn about the most current information in your industry, meet peers from across the commonwealth, and enjoy time that you've carved out just for you and your future. Enhance your world by taking part in this refreshingly wonderful, career-focused event. 

X-ALT-DESC;FMTTYPE=text/html:<!DOCTYPE HTML PUBLIC "-//W3C//DTD HTML 3.2//EN">\n<HTML>\n<HEAD>\n<META NAME="Generator" CONTENT="MS Exchange Server version 08.00.0681.000">\n<TITLE></TITLE>\n</HEAD>\n<BODY>\n<!-- Converted from text/rtf format -->\n\nIt’s Time for a Refresh<br />Invest in yourself and your career by attending Refresh: 2024 Virginia REALTORS® Annual Convention! The premier event on the Virginia REALTORS® calendar, our Annual Convention is a must-attend opportunity. Grow your network, expand your knowledge, and enjoy time celebrating your unstoppable industry.<br /><br />During this action-packed event, you'll have the opportunities to hear from top-notch speakers, learn about the most current information in your industry, meet peers from across the commonwealth, and enjoy time that you've carved out just for you and your future. Enhance your world by taking part in this refreshingly wonderful, career-focused event. \n\n</BODY>\n</HTML>

LOCATION:Richmond Marriott Downtown Parking, East Marshall Street, Jackson Ward, Richmond, Virginia, 23219, United States
END:VEVENT

END:VCALENDAR
