BEGIN:VCALENDAR
VERSION:2.0
PRODID:-//hacksw/handcal//NONSGML v1.0//EN
BEGIN:VEVENT
UID:c3aaeb5a845c923983d02f5468b01c53
DTSTAMP:20260420T111639Z

DTSTART:20230709T090000
DTEND:20230709T170000
SUMMARY:Iowa Commercial Real Estate Expo 2023
DESCRIPTION:Overview interest facts - Iowa Commercial Real Estate Expo 2023\nIowa Commercial Real Estate Expo will bring together bankers, architects, engineers, contractors, brokers, attorneys, property managers, developers or appraisers, among other specialties and even so much more.

X-ALT-DESC;FMTTYPE=text/html:<!DOCTYPE HTML PUBLIC "-//W3C//DTD HTML 3.2//EN">\n<HTML>\n<HEAD>\n<META NAME="Generator" CONTENT="MS Exchange Server version 08.00.0681.000">\n<TITLE></TITLE>\n</HEAD>\n<BODY>\n<!-- Converted from text/rtf format -->\n\nOverview interest facts - Iowa Commercial Real Estate Expo 2023<br />Iowa Commercial Real Estate Expo will bring together bankers, architects, engineers, contractors, brokers, attorneys, property managers, developers or appraisers, among other specialties and even so much more.\n\n</BODY>\n</HTML>

LOCATION:Golf and Country Club, West Des Moines, Polk County, Iowa, United States
END:VEVENT

END:VCALENDAR
