BEGIN:VCALENDAR
VERSION:2.0
PRODID:-//hacksw/handcal//NONSGML v1.0//EN
BEGIN:VEVENT
UID:100ef13c3116bb5acf12094105b7b3f3
DTSTAMP:20260420T005742Z

DTSTART:20230808T093000
DTEND:20230808T113000
SUMMARY:Intermediate CTM eContracts Webinar (Colorado Only) - Aug 8
DESCRIPTION:This class will introduce you to “Save Time” features like Contract Templates, Quick Start and Integration, building on what we learned in the Beginners class. After registering, you will be provided with the meeting link 1 day prior to the webinar date directly from CTM eContracts instructors. Note: there is also a 2 CE / $20 option for this webinar, please login to your Training Academy account and register/pay for the $20 option instead.

X-ALT-DESC;FMTTYPE=text/html:<!DOCTYPE HTML PUBLIC "-//W3C//DTD HTML 3.2//EN">\n<HTML>\n<HEAD>\n<META NAME="Generator" CONTENT="MS Exchange Server version 08.00.0681.000">\n<TITLE></TITLE>\n</HEAD>\n<BODY>\n<!-- Converted from text/rtf format -->\n\nThis class will introduce you to “Save Time” features like Contract Templates, Quick Start and Integration, building on what we learned in the Beginners class. After registering, you will be provided with the meeting link 1 day prior to the webinar date directly from CTM eContracts instructors. Note: there is also a 2 CE / $20 option for this webinar, please login to your Training Academy account and register/pay for the $20 option instead.\n\n</BODY>\n</HTML>

LOCATION:
END:VEVENT

END:VCALENDAR
