BEGIN:VCALENDAR
VERSION:2.0
PRODID:-//hacksw/handcal//NONSGML v1.0//EN
BEGIN:VEVENT
UID:87014b0141e7c6380b37a854296a03ad
DTSTAMP:20260420T081810Z

DTSTART:20230726T110000
DTEND:20230726T120000
SUMMARY:2nd Quarter 2023 Trends - July 26
DESCRIPTION:Clients always ask “How’s the market?” This class gives you specific talking points about current trends!\n\nClients always ask “How’s the market?” This class gives you specific talking points to sound like an expert on the trends for the previous quarter. We also discuss how you can use the information for listing presentations, and for buyers that aren’t sure if “now is the time to trade up” or if they should wait until later.\n\nClass taught by Greg Parham, First Alliance Title

X-ALT-DESC;FMTTYPE=text/html:<!DOCTYPE HTML PUBLIC "-//W3C//DTD HTML 3.2//EN">\n<HTML>\n<HEAD>\n<META NAME="Generator" CONTENT="MS Exchange Server version 08.00.0681.000">\n<TITLE></TITLE>\n</HEAD>\n<BODY>\n<!-- Converted from text/rtf format -->\n\nClients always ask “How’s the market?” This class gives you specific talking points about current trends!<br /><br />Clients always ask “How’s the market?” This class gives you specific talking points to sound like an expert on the trends for the previous quarter. We also discuss how you can use the information for listing presentations, and for buyers that aren’t sure if “now is the time to trade up” or if they should wait until later.<br /><br />Class taught by Greg Parham, First Alliance Title\n\n</BODY>\n</HTML>

LOCATION:
END:VEVENT

END:VCALENDAR
