BEGIN:VCALENDAR
VERSION:2.0
PRODID:-//hacksw/handcal//NONSGML v1.0//EN
BEGIN:VEVENT
UID:acd60fdf6bc490065f2a1097657636c1
DTSTAMP:20260419T232107Z

DTSTART:20230725T100000
DTEND:20230725T120000
SUMMARY:Chris Heller: Dominate Your Business Dominate Your Thoughts Webinar
DESCRIPTION:Tuesday, July 25th from 10:00 AM to 12:00 PM MST\nPresented by Chris Heller and the Coaches Leadership Group (CLG)\n0 CE for Colorado Agents | No Cost\n\nJoin Chris Heller, author of “Dominate Your Thoughts” and the Coaches Leadership Group of Team Legacy powered by eXp Realty and learn to dominate the next half of the year! Register today and receive the Zoom link after registering.

X-ALT-DESC;FMTTYPE=text/html:<!DOCTYPE HTML PUBLIC "-//W3C//DTD HTML 3.2//EN">\n<HTML>\n<HEAD>\n<META NAME="Generator" CONTENT="MS Exchange Server version 08.00.0681.000">\n<TITLE></TITLE>\n</HEAD>\n<BODY>\n<!-- Converted from text/rtf format -->\n\nTuesday, July 25th from 10:00 AM to 12:00 PM MST<br />Presented by Chris Heller and the Coaches Leadership Group (CLG)<br />0 CE for Colorado Agents | No Cost<br /><br />Join Chris Heller, author of “Dominate Your Thoughts” and the Coaches Leadership Group of Team Legacy powered by eXp Realty and learn to dominate the next half of the year! Register today and receive the Zoom link after registering.\n\n</BODY>\n</HTML>

LOCATION:
END:VEVENT

END:VCALENDAR
