BEGIN:VCALENDAR
VERSION:2.0
PRODID:-//hacksw/handcal//NONSGML v1.0//EN
BEGIN:VEVENT
UID:2de03925cc44b4335431ea92c74b8f0f
DTSTAMP:20260420T155517Z

DTSTART:20230803T190000
DTEND:20230803T210000
SUMMARY:The Smartest Real Estate Investor Meetup - August 2023
DESCRIPTION:Come on out and join us to network with other real estate professionals like you mean it! Our group is specifically designed to get the most out of every networking opportunity. Find out what makes us different and leave CONNECTED.\n\nThe most intentional monthly networking meetup for real estate professionals and investors in Houston!\n\nWe can't wait to meet you!

X-ALT-DESC;FMTTYPE=text/html:<!DOCTYPE HTML PUBLIC "-//W3C//DTD HTML 3.2//EN">\n<HTML>\n<HEAD>\n<META NAME="Generator" CONTENT="MS Exchange Server version 08.00.0681.000">\n<TITLE></TITLE>\n</HEAD>\n<BODY>\n<!-- Converted from text/rtf format -->\n\nCome on out and join us to network with other real estate professionals like you mean it! Our group is specifically designed to get the most out of every networking opportunity. Find out what makes us different and leave CONNECTED.<br /><br />The most intentional monthly networking meetup for real estate professionals and investors in Houston!<br /><br />We can't wait to meet you!\n\n</BODY>\n</HTML>

LOCATION:10622, Hirsch Road, Edgeworth Place, Houston, Harris County, Texas, 77016, United States
END:VEVENT

END:VCALENDAR
