BEGIN:VCALENDAR
VERSION:2.0
PRODID:-//hacksw/handcal//NONSGML v1.0//EN
BEGIN:VEVENT
UID:3406b3114f274e81ce89b330e661656e
DTSTAMP:20260420T070346Z

DTSTART:20230815T140000
DTEND:20230815T150000
SUMMARY:Title Insurance 101 - Aug 15
DESCRIPTION:Learn everything you need to know to educate your clients on the title insurance commitment and policy! Learn the basic fundamentals of Title Insurance. After taking this class, you will have basic knowledge of title insurance and how to read a title commitment.\n\nCost - 0\nCredits - 1\n\nInstructor Name - Shana Briggs\nCompany Name - LAND TITLE GUARANTEE COMPANY

X-ALT-DESC;FMTTYPE=text/html:<!DOCTYPE HTML PUBLIC "-//W3C//DTD HTML 3.2//EN">\n<HTML>\n<HEAD>\n<META NAME="Generator" CONTENT="MS Exchange Server version 08.00.0681.000">\n<TITLE></TITLE>\n</HEAD>\n<BODY>\n<!-- Converted from text/rtf format -->\n\nLearn everything you need to know to educate your clients on the title insurance commitment and policy! Learn the basic fundamentals of Title Insurance. After taking this class, you will have basic knowledge of title insurance and how to read a title commitment.<br /><br />Cost - 0<br />Credits - 1<br /><br />Instructor Name - Shana Briggs<br />Company Name - LAND TITLE GUARANTEE COMPANY\n\n</BODY>\n</HTML>

LOCATION:12050, North Pecos Street, Westminster, Adams County, Colorado, 80234, United States
END:VEVENT

END:VCALENDAR
