BEGIN:VCALENDAR
VERSION:2.0
PRODID:-//hacksw/handcal//NONSGML v1.0//EN
BEGIN:VEVENT
UID:7d388604170bd6eb91e8e975a13e2a5d
DTSTAMP:20260420T053911Z

DTSTART:20230801T140000
DTEND:20230801T150000
SUMMARY:YouTube Basics for Real Estate Agents - August 2023
DESCRIPTION:We will  cover the basics, empowering agents of all skill levels to create captivating videos. No tech skills required! Discover how to captivate your audience, measure your success, and boost visibility and social media integration.\n\nElevate your brand, attract clients, and unlock the incredible potential of YouTube in the real estate world. 

X-ALT-DESC;FMTTYPE=text/html:<!DOCTYPE HTML PUBLIC "-//W3C//DTD HTML 3.2//EN">\n<HTML>\n<HEAD>\n<META NAME="Generator" CONTENT="MS Exchange Server version 08.00.0681.000">\n<TITLE></TITLE>\n</HEAD>\n<BODY>\n<!-- Converted from text/rtf format -->\n\nWe will  cover the basics, empowering agents of all skill levels to create captivating videos. No tech skills required! Discover how to captivate your audience, measure your success, and boost visibility and social media integration.<br /><br />Elevate your brand, attract clients, and unlock the incredible potential of YouTube in the real estate world. \n\n</BODY>\n</HTML>

LOCATION:750 Main, 750, Main Street, Grand Junction, Mesa County, Colorado, 81501, United States
END:VEVENT

END:VCALENDAR
