BEGIN:VCALENDAR
VERSION:2.0
PRODID:-//hacksw/handcal//NONSGML v1.0//EN
BEGIN:VEVENT
UID:c1b673596aa03f7e14a17360366edc73
DTSTAMP:20260420T144212Z

DTSTART:20230823T173000
DTEND:20230823T193000
SUMMARY:#1 Commercial Real Estate Meetup 2023
DESCRIPTION:Your hosts for the night are Ryan Dumas and Marv McGuire.\n\nW﻿e will discuss multifamily, BTR (Build to Rent) and self storage investing.\n\nJV and syndication deals!\n\nWhether you've been at this for some time or just starting out, come out and chat with us!\n\n\n

X-ALT-DESC;FMTTYPE=text/html:<!DOCTYPE HTML PUBLIC "-//W3C//DTD HTML 3.2//EN">\n<HTML>\n<HEAD>\n<META NAME="Generator" CONTENT="MS Exchange Server version 08.00.0681.000">\n<TITLE></TITLE>\n</HEAD>\n<BODY>\n<!-- Converted from text/rtf format -->\n\nYour hosts for the night are Ryan Dumas and Marv McGuire.<br /><br />W﻿e will discuss multifamily, BTR (Build to Rent) and self storage investing.<br /><br />JV and syndication deals!<br /><br />Whether you've been at this for some time or just starting out, come out and chat with us!<br /><br /><br />\n\n</BODY>\n</HTML>

LOCATION:12333, 66th Street North, Pinellas Park, Pinellas County, Florida, 33773, United States
END:VEVENT

END:VCALENDAR
