BEGIN:VCALENDAR
VERSION:2.0
PRODID:-//hacksw/handcal//NONSGML v1.0//EN
BEGIN:VEVENT
UID:a8a726c856cf79ba8554769aff8c5e23
DTSTAMP:20260420T075716Z

DTSTART:20230816T120000
DTEND:20230816T130000
SUMMARY:Seller Finance for Investors
DESCRIPTION:Join us to learn the ins and outs of seller finance.\\n\nWith increased mortgage interest rates some investors are selling properties with seller finance. In this class Greg Parham covers the ins and outs of seller finance, whether purchasing or selling. We will also discuss alternative strategies such as lease options.

X-ALT-DESC;FMTTYPE=text/html:<!DOCTYPE HTML PUBLIC "-//W3C//DTD HTML 3.2//EN">\n<HTML>\n<HEAD>\n<META NAME="Generator" CONTENT="MS Exchange Server version 08.00.0681.000">\n<TITLE></TITLE>\n</HEAD>\n<BODY>\n<!-- Converted from text/rtf format -->\n\nJoin us to learn the ins and outs of seller finance.\<br /><br />With increased mortgage interest rates some investors are selling properties with seller finance. In this class Greg Parham covers the ins and outs of seller finance, whether purchasing or selling. We will also discuss alternative strategies such as lease options.\n\n</BODY>\n</HTML>

LOCATION:
END:VEVENT

END:VCALENDAR
