BEGIN:VCALENDAR
VERSION:2.0
PRODID:-//hacksw/handcal//NONSGML v1.0//EN
BEGIN:VEVENT
UID:ac125577b584ce453e969d302f51259d
DTSTAMP:20260420T093143Z

DTSTART:20230824T100000
DTEND:20230824T140000
SUMMARY:How to Facilitate a Smooth Loan Transaction (In-Person Class)
DESCRIPTION:Thursday, August 24th from 10:00 AM to 12:00 PM MST\nPresented by Jeff Rickard of Universal Lending Corp\nFirst Integrity Title Glendale Office\n501 S Cherry St – Suite 250\nGlendale, CO 80246\n0 CE and No Cost\n\nJoin Jeff Rickard of Universal Lending as he helps the real estate professional to be proactive in facilitating a worry free loan process that results in a closing on time and with minimum headaches. Discussion will include choosing a lender you can trust, pre-qualification process and letters, contract dates, appraisal requirements, the dreaded inspection resolution, earnest money, cash to close, closing costs, buyer warning signs, condominium approvals and the endless list of loan conditions.\n\nRegister today – space is limited!

X-ALT-DESC;FMTTYPE=text/html:<!DOCTYPE HTML PUBLIC "-//W3C//DTD HTML 3.2//EN">\n<HTML>\n<HEAD>\n<META NAME="Generator" CONTENT="MS Exchange Server version 08.00.0681.000">\n<TITLE></TITLE>\n</HEAD>\n<BODY>\n<!-- Converted from text/rtf format -->\n\nThursday, August 24th from 10:00 AM to 12:00 PM MST<br />Presented by Jeff Rickard of Universal Lending Corp<br />First Integrity Title Glendale Office<br />501 S Cherry St – Suite 250<br />Glendale, CO 80246<br />0 CE and No Cost<br /><br />Join Jeff Rickard of Universal Lending as he helps the real estate professional to be proactive in facilitating a worry free loan process that results in a closing on time and with minimum headaches. Discussion will include choosing a lender you can trust, pre-qualification process and letters, contract dates, appraisal requirements, the dreaded inspection resolution, earnest money, cash to close, closing costs, buyer warning signs, condominium approvals and the endless list of loan conditions.<br /><br />Register today – space is limited!\n\n</BODY>\n</HTML>

LOCATION:
END:VEVENT

END:VCALENDAR
