BEGIN:VCALENDAR
VERSION:2.0
PRODID:-//hacksw/handcal//NONSGML v1.0//EN
BEGIN:VEVENT
UID:3a2c0695a5852404df3ac227f69d2084
DTSTAMP:20260420T052015Z

DTSTART:20230822T113000
DTEND:20230822T123000
SUMMARY:Changes to Landlord Tenant Laws that Every Landlord Should Know
DESCRIPTION:There have been several legislative changes as well as court decisions that impact leases, tenant rights, and evictions. Tune in to this legal update with Greg Parham for an analysis of recent changes.\n 

X-ALT-DESC;FMTTYPE=text/html:<!DOCTYPE HTML PUBLIC "-//W3C//DTD HTML 3.2//EN">\n<HTML>\n<HEAD>\n<META NAME="Generator" CONTENT="MS Exchange Server version 08.00.0681.000">\n<TITLE></TITLE>\n</HEAD>\n<BODY>\n<!-- Converted from text/rtf format -->\n\nThere have been several legislative changes as well as court decisions that impact leases, tenant rights, and evictions. Tune in to this legal update with Greg Parham for an analysis of recent changes.<br /> \n\n</BODY>\n</HTML>

LOCATION:
END:VEVENT

END:VCALENDAR
