BEGIN:VCALENDAR
VERSION:2.0
PRODID:-//hacksw/handcal//NONSGML v1.0//EN
BEGIN:VEVENT
UID:0432038ae78ec6a1d565b1b365809b50
DTSTAMP:20260421T045039Z

DTSTART:20241025T120000
DTEND:20241027T160000
SUMMARY:Colorado Springs Home Show - October 2024
DESCRIPTION:The Colorado Springs Home Show is back! Explore the latest in home improvement, remodeling, outdoor living, and more! Meet with local contractors and remodeling experts and expect to be inspired.

X-ALT-DESC;FMTTYPE=text/html:<!DOCTYPE HTML PUBLIC "-//W3C//DTD HTML 3.2//EN">\n<HTML>\n<HEAD>\n<META NAME="Generator" CONTENT="MS Exchange Server version 08.00.0681.000">\n<TITLE></TITLE>\n</HEAD>\n<BODY>\n<!-- Converted from text/rtf format -->\n\nThe Colorado Springs Home Show is back! Explore the latest in home improvement, remodeling, outdoor living, and more! Meet with local contractors and remodeling experts and expect to be inspired.\n\n</BODY>\n</HTML>

LOCATION:Colorado Springs Event Center, 3960, Palmer Park Boulevard, Colorado Springs, El Paso County, Colorado, 80909, United States
END:VEVENT

END:VCALENDAR
