BEGIN:VCALENDAR
VERSION:2.0
PRODID:-//hacksw/handcal//NONSGML v1.0//EN
BEGIN:VEVENT
UID:187cae7c39e755e67c4670f42dbed283
DTSTAMP:20260420T111349Z

DTSTART:20240405T120000
DTEND:20240407T160000
SUMMARY:Pueblo Home Show - April 2024
DESCRIPTION:This free event is the perfect opportunity for homeowners to save BIG on all home improvement projects and meet with local and national vendors face-to-face, offering valuable insights and guidance to help you turn your vision into reality.\n\nWhether you're looking to remodel your kitchen, revamp your outdoor living space, or simply make some updates around the house, the Pueblo Spring Home Show has everything you need to get started.

X-ALT-DESC;FMTTYPE=text/html:<!DOCTYPE HTML PUBLIC "-//W3C//DTD HTML 3.2//EN">\n<HTML>\n<HEAD>\n<META NAME="Generator" CONTENT="MS Exchange Server version 08.00.0681.000">\n<TITLE></TITLE>\n</HEAD>\n<BODY>\n<!-- Converted from text/rtf format -->\n\nThis free event is the perfect opportunity for homeowners to save BIG on all home improvement projects and meet with local and national vendors face-to-face, offering valuable insights and guidance to help you turn your vision into reality.<br /><br />Whether you're looking to remodel your kitchen, revamp your outdoor living space, or simply make some updates around the house, the Pueblo Spring Home Show has everything you need to get started.\n\n</BODY>\n</HTML>

LOCATION:Pueblo Convention Center, 320, Central Main Street, Pueblo, Pueblo County, Colorado, 81003, United States
END:VEVENT

END:VCALENDAR
