BEGIN:VCALENDAR
VERSION:2.0
PRODID:-//hacksw/handcal//NONSGML v1.0//EN
BEGIN:VEVENT
UID:6b312c12d15be83ee37dee90ca6a9c8d
DTSTAMP:20260420T035521Z

DTSTART:20240315T120000
DTEND:20240317T160000
SUMMARY:Montrose Home Expo 2024
DESCRIPTION:This free event is the perfect opportunity for homeowners to save BIG on all home improvement projects and meet with local and national vendors face to face, offering valuable insights and guidance to help you turn your vision into reality.\n\nWhether you're looking to remodel your kitchen, revamp your outdoor living space, or simply make some updates around the house, the Montrose Fall Home Expo has everything you need to get started.\n\nThe Montrose Home Expo will be held next on Oct 6th-8th, 2023 with additional shows on Mar 15th-17th, 2024, in Montrose, CO. This Montrose home show is held at Montrose Fairgrounds – Friendship Hall and hosted by Montrose Home Expo & Nationwide Expos.

X-ALT-DESC;FMTTYPE=text/html:<!DOCTYPE HTML PUBLIC "-//W3C//DTD HTML 3.2//EN">\n<HTML>\n<HEAD>\n<META NAME="Generator" CONTENT="MS Exchange Server version 08.00.0681.000">\n<TITLE></TITLE>\n</HEAD>\n<BODY>\n<!-- Converted from text/rtf format -->\n\nThis free event is the perfect opportunity for homeowners to save BIG on all home improvement projects and meet with local and national vendors face to face, offering valuable insights and guidance to help you turn your vision into reality.<br /><br />Whether you're looking to remodel your kitchen, revamp your outdoor living space, or simply make some updates around the house, the Montrose Fall Home Expo has everything you need to get started.<br /><br />The Montrose Home Expo will be held next on Oct 6th-8th, 2023 with additional shows on Mar 15th-17th, 2024, in Montrose, CO. This Montrose home show is held at Montrose Fairgrounds – Friendship Hall and hosted by Montrose Home Expo & Nationwide Expos.\n\n</BODY>\n</HTML>

LOCATION:1001, North 2nd Street, Montrose, Montrose County, Colorado, 81401, United States
END:VEVENT

END:VCALENDAR
