BEGIN:VCALENDAR
VERSION:2.0
PRODID:-//hacksw/handcal//NONSGML v1.0//EN
BEGIN:VEVENT
UID:766ba3eb22b4fc40fcaca21a261b8c8f
DTSTAMP:20260420T070516Z

DTSTART:20230906T090000
DTEND:20230906T100000
SUMMARY:Title Insurance 101 - Sep 6
DESCRIPTION:Learn everything you need to know to educate your clients on the title insurance commitment and policy! Learn the basic fundamentals of Title Insurance. After taking this class, you will have basic knowledge of title insurance and how to read a title commitment.\n\nCost - 0\nCredits - 1\n\nInstructor Name - Megan Carlson\n

X-ALT-DESC;FMTTYPE=text/html:<!DOCTYPE HTML PUBLIC "-//W3C//DTD HTML 3.2//EN">\n<HTML>\n<HEAD>\n<META NAME="Generator" CONTENT="MS Exchange Server version 08.00.0681.000">\n<TITLE></TITLE>\n</HEAD>\n<BODY>\n<!-- Converted from text/rtf format -->\n\nLearn everything you need to know to educate your clients on the title insurance commitment and policy! Learn the basic fundamentals of Title Insurance. After taking this class, you will have basic knowledge of title insurance and how to read a title commitment.<br /><br />Cost - 0<br />Credits - 1<br /><br />Instructor Name - Megan Carlson<br />\n\n</BODY>\n</HTML>

LOCATION:
END:VEVENT

END:VCALENDAR
