BEGIN:VCALENDAR
VERSION:2.0
PRODID:-//hacksw/handcal//NONSGML v1.0//EN
BEGIN:VEVENT
UID:6d8b4bb6e77e39c816ff379ac24a4de1
DTSTAMP:20260420T053946Z

DTSTART:20230930T100000
DTEND:20231001T160000
SUMMARY:Ocala Home Show 2023
DESCRIPTION:The Ocala Home Show is here to help you find everything for your home improvement projects! View and interact with the industry's hottest home and garden products! Meet with professionals who can help make your next remodeling, renovation, landscaping, patio or decorating project a big success.\n\nThe Ocala Home Show will be held on Sep 30th-Oct 1st, 2023 in Ocala, FL. This Ocala home show is held at World Equestrian Center and hosted by Ocala Home Show & East Coast Consumer Shows.

X-ALT-DESC;FMTTYPE=text/html:<!DOCTYPE HTML PUBLIC "-//W3C//DTD HTML 3.2//EN">\n<HTML>\n<HEAD>\n<META NAME="Generator" CONTENT="MS Exchange Server version 08.00.0681.000">\n<TITLE></TITLE>\n</HEAD>\n<BODY>\n<!-- Converted from text/rtf format -->\n\nThe Ocala Home Show is here to help you find everything for your home improvement projects! View and interact with the industry's hottest home and garden products! Meet with professionals who can help make your next remodeling, renovation, landscaping, patio or decorating project a big success.<br /><br />The Ocala Home Show will be held on Sep 30th-Oct 1st, 2023 in Ocala, FL. This Ocala home show is held at World Equestrian Center and hosted by Ocala Home Show & East Coast Consumer Shows.\n\n</BODY>\n</HTML>

LOCATION:World Equestrian Center, 1390, Northwest 80th Avenue, Sherman Oaks, Ocala, Marion County, Florida, 34482, United States
END:VEVENT

END:VCALENDAR
