BEGIN:VCALENDAR
VERSION:2.0
PRODID:-//hacksw/handcal//NONSGML v1.0//EN
BEGIN:VEVENT
UID:b96fb0e893b43b3b17b6c44313de1400
DTSTAMP:20260420T044230Z

DTSTART:20231020T120000
DTEND:20231022T160000
SUMMARY:Athens Home Expo - October 2023
DESCRIPTION:This free event is the perfect opportunity for homeowners to save BIG on all home improvement projects and meet with local and national vendors face-to-face, offering valuable insights and guidance to help you turn your vision into reality.\n\nWhether you're looking to remodel your kitchen, revamp your outdoor living space, or simply make some updates around the house, the Athens Spring Home Expo has everything you need to get started.\n\nThe Athens Home Expo will be held next on Oct 20th-22nd, 2023 with additional shows on Apr 5th-7th, 2024, in Athens, GA. This Athens home show is held at The Classic Center and hosted by Athens Home Expo & Nationwide Expos.

X-ALT-DESC;FMTTYPE=text/html:<!DOCTYPE HTML PUBLIC "-//W3C//DTD HTML 3.2//EN">\n<HTML>\n<HEAD>\n<META NAME="Generator" CONTENT="MS Exchange Server version 08.00.0681.000">\n<TITLE></TITLE>\n</HEAD>\n<BODY>\n<!-- Converted from text/rtf format -->\n\nThis free event is the perfect opportunity for homeowners to save BIG on all home improvement projects and meet with local and national vendors face-to-face, offering valuable insights and guidance to help you turn your vision into reality.<br /><br />Whether you're looking to remodel your kitchen, revamp your outdoor living space, or simply make some updates around the house, the Athens Spring Home Expo has everything you need to get started.<br /><br />The Athens Home Expo will be held next on Oct 20th-22nd, 2023 with additional shows on Apr 5th-7th, 2024, in Athens, GA. This Athens home show is held at The Classic Center and hosted by Athens Home Expo & Nationwide Expos.\n\n</BODY>\n</HTML>

LOCATION:Athens-Clarke County Unified Government, Athens-Clarke County, Georgia, United States
END:VEVENT

END:VCALENDAR
