BEGIN:VCALENDAR
VERSION:2.0
PRODID:-//hacksw/handcal//NONSGML v1.0//EN
BEGIN:VEVENT
UID:2802ad2e0dc0c77e5cb45b7644a2b43d
DTSTAMP:20260420T021031Z

DTSTART:20240120T100000
DTEND:20240120T160000
SUMMARY:Shakopee Home Show - January 2024
DESCRIPTION:Come out to visit Shakopee's Premier home improvement show! There will be everything for home improvement, decor, remodeling and landscaping!\n\nThe Shakopee Home Show will be held next on Oct 28th, 2023 with additional shows on Jan 20th, 2024, in Shakopee, MN. This Shakopee home show is held at Canterbury Park Expo Center and hosted by Minnesota Home Shows.

X-ALT-DESC;FMTTYPE=text/html:<!DOCTYPE HTML PUBLIC "-//W3C//DTD HTML 3.2//EN">\n<HTML>\n<HEAD>\n<META NAME="Generator" CONTENT="MS Exchange Server version 08.00.0681.000">\n<TITLE></TITLE>\n</HEAD>\n<BODY>\n<!-- Converted from text/rtf format -->\n\nCome out to visit Shakopee's Premier home improvement show! There will be everything for home improvement, decor, remodeling and landscaping!<br /><br />The Shakopee Home Show will be held next on Oct 28th, 2023 with additional shows on Jan 20th, 2024, in Shakopee, MN. This Shakopee home show is held at Canterbury Park Expo Center and hosted by Minnesota Home Shows.\n\n</BODY>\n</HTML>

LOCATION:Canterbury Road, Shakopee, Scott County, Minnesota, 55379, United States
END:VEVENT

END:VCALENDAR
