BEGIN:VCALENDAR
VERSION:2.0
PRODID:-//hacksw/handcal//NONSGML v1.0//EN
BEGIN:VEVENT
UID:a586d5b460cf2dc7af682967c2296b7f
DTSTAMP:20260420T104757Z

DTSTART:20230929T110000
DTEND:20231001T180000
SUMMARY:Heart of the Valley Albany Home and Garden Show 2023
DESCRIPTION:Over 50 exhibitors with products and services for your home and and garden needs. Free seminars!\n\nThe Heart of the Valley Albany Home and Garden Show will be held on Sep 29th-Oct 1st, 2023 in Albany, OR. This Albany home show is held at Linn County Expo Center and hosted by Oregon Hearth and Home Events.

X-ALT-DESC;FMTTYPE=text/html:<!DOCTYPE HTML PUBLIC "-//W3C//DTD HTML 3.2//EN">\n<HTML>\n<HEAD>\n<META NAME="Generator" CONTENT="MS Exchange Server version 08.00.0681.000">\n<TITLE></TITLE>\n</HEAD>\n<BODY>\n<!-- Converted from text/rtf format -->\n\nOver 50 exhibitors with products and services for your home and and garden needs. Free seminars!<br /><br />The Heart of the Valley Albany Home and Garden Show will be held on Sep 29th-Oct 1st, 2023 in Albany, OR. This Albany home show is held at Linn County Expo Center and hosted by Oregon Hearth and Home Events.\n\n</BODY>\n</HTML>

LOCATION:3700, Knox Butte Road East, Albany, Linn County, Oregon, 97322, United States
END:VEVENT

END:VCALENDAR
