BEGIN:VCALENDAR
VERSION:2.0
PRODID:-//hacksw/handcal//NONSGML v1.0//EN
BEGIN:VEVENT
UID:b8902d8a24192e627869296f0e752d9f
DTSTAMP:20260420T183946Z

DTSTART:20230921T130000
DTEND:20230921T140000
SUMMARY:Understanding First-Time Home Buyers - Sep 21
DESCRIPTION:To understand the first-time buyer market, you need to understand their needs, mortgage options, and financial and lifestyle preferences.\n\nProfessional agents wanting future business from the client truly need to focus on more than just a minimum required down payment assistance program. We will work on understanding first-time home buyers to match the client’s needs to the property and financing options will create a loyal client for life.\n\n1 Free CE Credit\n\nClass taught by Bill Ezell

X-ALT-DESC;FMTTYPE=text/html:<!DOCTYPE HTML PUBLIC "-//W3C//DTD HTML 3.2//EN">\n<HTML>\n<HEAD>\n<META NAME="Generator" CONTENT="MS Exchange Server version 08.00.0681.000">\n<TITLE></TITLE>\n</HEAD>\n<BODY>\n<!-- Converted from text/rtf format -->\n\nTo understand the first-time buyer market, you need to understand their needs, mortgage options, and financial and lifestyle preferences.<br /><br />Professional agents wanting future business from the client truly need to focus on more than just a minimum required down payment assistance program. We will work on understanding first-time home buyers to match the client’s needs to the property and financing options will create a loyal client for life.<br /><br />1 Free CE Credit<br /><br />Class taught by Bill Ezell\n\n</BODY>\n</HTML>

LOCATION:5675, DTC Boulevard, Denver Tech Center, Greenwood Village, Arapahoe County, Colorado, 80111, United States
END:VEVENT

END:VCALENDAR
