BEGIN:VCALENDAR
VERSION:2.0
PRODID:-//hacksw/handcal//NONSGML v1.0//EN
BEGIN:VEVENT
UID:8ac5e005394463ff24d0a3310cfc409b
DTSTAMP:20260420T025121Z

DTSTART:20230930T100000
DTEND:20231001T170000
SUMMARY:Murfreesboro Home Expo 2023
DESCRIPTION:The Murfreesboro Fall Home Expo is back! See the latest in home improvement, remodeling, outdoor living, and more! Meet with local contractors and remodeling experts.\n\nThe Murfreesboro Home Expo will be held on Sep 30th-Oct 1st, 2023 in Murfreesboro, TN. This Murfreesboro home show is held at : Embassy Suites by Hilton Nashville SE Murfreesboro and hosted by Murfreesboro Home Expo & Nationwide Expos.

X-ALT-DESC;FMTTYPE=text/html:<!DOCTYPE HTML PUBLIC "-//W3C//DTD HTML 3.2//EN">\n<HTML>\n<HEAD>\n<META NAME="Generator" CONTENT="MS Exchange Server version 08.00.0681.000">\n<TITLE></TITLE>\n</HEAD>\n<BODY>\n<!-- Converted from text/rtf format -->\n\nThe Murfreesboro Fall Home Expo is back! See the latest in home improvement, remodeling, outdoor living, and more! Meet with local contractors and remodeling experts.<br /><br />The Murfreesboro Home Expo will be held on Sep 30th-Oct 1st, 2023 in Murfreesboro, TN. This Murfreesboro home show is held at : Embassy Suites by Hilton Nashville SE Murfreesboro and hosted by Murfreesboro Home Expo & Nationwide Expos.\n\n</BODY>\n</HTML>

LOCATION:Murfreesboro, Rutherford County, Middle Tennessee, Tennessee, United States
END:VEVENT

END:VCALENDAR
