BEGIN:VCALENDAR
VERSION:2.0
PRODID:-//hacksw/handcal//NONSGML v1.0//EN
BEGIN:VEVENT
UID:1a5a4b956b3ce146a22b8ed95c192c1b
DTSTAMP:20260420T005735Z

DTSTART:20231020T120000
DTEND:20231022T180000
SUMMARY:Houston Fall Home Show 2023
DESCRIPTION:The Houston Fall Home and Garden Show will have home improvement, deals and sales, inspirational ideas, experts and so much more at their annual home event!\n\nThe Houston Fall Home Show will be held on Oct 20th-22nd, 2023 in Houston, TX. This Houston home show is held at NRG Park and hosted by Marketplace Events.

X-ALT-DESC;FMTTYPE=text/html:<!DOCTYPE HTML PUBLIC "-//W3C//DTD HTML 3.2//EN">\n<HTML>\n<HEAD>\n<META NAME="Generator" CONTENT="MS Exchange Server version 08.00.0681.000">\n<TITLE></TITLE>\n</HEAD>\n<BODY>\n<!-- Converted from text/rtf format -->\n\nThe Houston Fall Home and Garden Show will have home improvement, deals and sales, inspirational ideas, experts and so much more at their annual home event!<br /><br />The Houston Fall Home Show will be held on Oct 20th-22nd, 2023 in Houston, TX. This Houston home show is held at NRG Park and hosted by Marketplace Events.\n\n</BODY>\n</HTML>

LOCATION:Residence Inn by Marriot Houston Medical Center/NRG Park, Houston, Harris County, Texas, United States
END:VEVENT

END:VCALENDAR
