BEGIN:VCALENDAR
VERSION:2.0
PRODID:-//hacksw/handcal//NONSGML v1.0//EN
BEGIN:VEVENT
UID:b0c9d335974f4245f1895cc95ff1e3c6
DTSTAMP:20260420T021348Z

DTSTART:20231004T100000
DTEND:20231004T113000
SUMMARY:Embracing the Shift: How to Pivot and Thrive in a Changing Real Estate Market Class (In-Person Class)
DESCRIPTION:Wednesday, October 4th from 10:00 AM to 11:30 AM MDT\nPresented by Michelle Oddo of Luminate Home Loans\nFirst Integrity Title Glendale Office\n501 S Cherry St – Suite 250\nGlendale, CO 80246\n0 CE | No Cost\n\nDuring this engaging course, real estate agents will discover the strategies and skills essential for navigating today’s ever-evolving real estate landscape. Michelle Oddo will guide you through current mortgage trends and adaptable techniques for both buyers and sellers, empowering you to not only survive but thrive in any market condition. Register today – space is limited!

X-ALT-DESC;FMTTYPE=text/html:<!DOCTYPE HTML PUBLIC "-//W3C//DTD HTML 3.2//EN">\n<HTML>\n<HEAD>\n<META NAME="Generator" CONTENT="MS Exchange Server version 08.00.0681.000">\n<TITLE></TITLE>\n</HEAD>\n<BODY>\n<!-- Converted from text/rtf format -->\n\nWednesday, October 4th from 10:00 AM to 11:30 AM MDT<br />Presented by Michelle Oddo of Luminate Home Loans<br />First Integrity Title Glendale Office<br />501 S Cherry St – Suite 250<br />Glendale, CO 80246<br />0 CE | No Cost<br /><br />During this engaging course, real estate agents will discover the strategies and skills essential for navigating today’s ever-evolving real estate landscape. Michelle Oddo will guide you through current mortgage trends and adaptable techniques for both buyers and sellers, empowering you to not only survive but thrive in any market condition. Register today – space is limited!\n\n</BODY>\n</HTML>

LOCATION:501, South Cherry Street, Glendale, Arapahoe County, Colorado, 80246, United States
END:VEVENT

END:VCALENDAR
