BEGIN:VCALENDAR
VERSION:2.0
PRODID:-//hacksw/handcal//NONSGML v1.0//EN
BEGIN:VEVENT
UID:44dbace796b5004ec0db22df991e92f9
DTSTAMP:20260420T005807Z

DTSTART:20240216T130000
DTEND:20240218T160000
SUMMARY:Fredericksburg Spring Home Show 2024
DESCRIPTION:The Fredericksburg Spring Home Show will have exhibitors, seminars, special appearances and much more!\n\nMeet with landscapers, designers, contractors and many more. Find what you need from inside and outside of the house.\n\nThe Fredericksburg Spring Home Show will be held on Feb 16th-18th, 2024 in Fredericksburg, VA. This Fredericksburg home show is held at Fredericksburg Expo and Conference Center and hosted by Fredericksburg Home Shows.

X-ALT-DESC;FMTTYPE=text/html:<!DOCTYPE HTML PUBLIC "-//W3C//DTD HTML 3.2//EN">\n<HTML>\n<HEAD>\n<META NAME="Generator" CONTENT="MS Exchange Server version 08.00.0681.000">\n<TITLE></TITLE>\n</HEAD>\n<BODY>\n<!-- Converted from text/rtf format -->\n\nThe Fredericksburg Spring Home Show will have exhibitors, seminars, special appearances and much more!<br /><br />Meet with landscapers, designers, contractors and many more. Find what you need from inside and outside of the house.<br /><br />The Fredericksburg Spring Home Show will be held on Feb 16th-18th, 2024 in Fredericksburg, VA. This Fredericksburg home show is held at Fredericksburg Expo and Conference Center and hosted by Fredericksburg Home Shows.\n\n</BODY>\n</HTML>

LOCATION:Fredericksburg Expo & Conference Center, 2371, Carl D Silver Parkway, Fredericksburg, Virginia, 22401, United States
END:VEVENT

END:VCALENDAR
