BEGIN:VCALENDAR
VERSION:2.0
PRODID:-//hacksw/handcal//NONSGML v1.0//EN
BEGIN:VEVENT
UID:8925402d48fa2e184de6536834b5a6b7
DTSTAMP:20260420T010211Z

DTSTART:20240209T140000
DTEND:20240211T160000
SUMMARY:Green Bay Home and Lifestyles Experience 2024
DESCRIPTION:The Green Bay Home & Lifestyles Experience is the largest home show of its kind in the region.\n\nVisit with industry professionals in all areas of home building, remodeling, landscaping, interior improvements, roofing, windows and more! Everything for the home… inside and out!\n\nThe Green Bay Home and Lifestyles Experience will be held on Feb 9th-11th, 2024 in Ashwaubenon, WI. This Ashwaubenon home show is held at Resch Expo Center and hosted by Home Builders Association of Brown County.

X-ALT-DESC;FMTTYPE=text/html:<!DOCTYPE HTML PUBLIC "-//W3C//DTD HTML 3.2//EN">\n<HTML>\n<HEAD>\n<META NAME="Generator" CONTENT="MS Exchange Server version 08.00.0681.000">\n<TITLE></TITLE>\n</HEAD>\n<BODY>\n<!-- Converted from text/rtf format -->\n\nThe Green Bay Home & Lifestyles Experience is the largest home show of its kind in the region.<br /><br />Visit with industry professionals in all areas of home building, remodeling, landscaping, interior improvements, roofing, windows and more! Everything for the home… inside and out!<br /><br />The Green Bay Home and Lifestyles Experience will be held on Feb 9th-11th, 2024 in Ashwaubenon, WI. This Ashwaubenon home show is held at Resch Expo Center and hosted by Home Builders Association of Brown County.\n\n</BODY>\n</HTML>

LOCATION:840, Armed Forces Drive, Ashwaubenon, Brown County, Wisconsin, 54304, United States
END:VEVENT

END:VCALENDAR
